BEGIN:VCALENDAR
VERSION:2.0
PRODID:-//Newport Vineyards - ECPv6.15.20//NONSGML v1.0//EN
CALSCALE:GREGORIAN
METHOD:PUBLISH
X-WR-CALNAME:Newport Vineyards
X-ORIGINAL-URL:https://newportvineyards.com
X-WR-CALDESC:Events for Newport Vineyards
REFRESH-INTERVAL;VALUE=DURATION:PT1H
X-Robots-Tag:noindex
X-PUBLISHED-TTL:PT1H
BEGIN:VTIMEZONE
TZID:America/New_York
BEGIN:DAYLIGHT
TZOFFSETFROM:-0500
TZOFFSETTO:-0400
TZNAME:EDT
DTSTART:20250309T070000
END:DAYLIGHT
BEGIN:STANDARD
TZOFFSETFROM:-0400
TZOFFSETTO:-0500
TZNAME:EST
DTSTART:20251102T060000
END:STANDARD
BEGIN:DAYLIGHT
TZOFFSETFROM:-0500
TZOFFSETTO:-0400
TZNAME:EDT
DTSTART:20260308T070000
END:DAYLIGHT
BEGIN:STANDARD
TZOFFSETFROM:-0400
TZOFFSETTO:-0500
TZNAME:EST
DTSTART:20261101T060000
END:STANDARD
BEGIN:DAYLIGHT
TZOFFSETFROM:-0500
TZOFFSETTO:-0400
TZNAME:EDT
DTSTART:20270314T070000
END:DAYLIGHT
BEGIN:STANDARD
TZOFFSETFROM:-0400
TZOFFSETTO:-0500
TZNAME:EST
DTSTART:20271107T060000
END:STANDARD
END:VTIMEZONE
BEGIN:VEVENT
DTSTART;TZID=America/New_York:20260426T130000
DTEND;TZID=America/New_York:20260426T160000
DTSTAMP:20260421T092446
CREATED:20250902T145634Z
LAST-MODIFIED:20260105T135225Z
UID:10773495-1777208400-1777219200@newportvineyards.com
SUMMARY:SUNDAYS: Oysters & Rosé Special
DESCRIPTION:Shuck Yeah! Your Perfect Summer Sundays Start Here with Oysters\, Rosé & Music \nMake the most of summer Sundays with us! Indulge in fresh\, local oysters ($3 each\, $15 for 6\, $25 for 12) and perfectly pair them with a glass of our delightful rosé for just $5 (with oyster purchase)! Oysters available exclusively on our patio. We also have a food station & our charcuterie cart offered on the patio for walk-up service. \nPlus\, live music every Sunday 1pm – 4pm. \nSunday Music Lineup:\nSeptember 21st (NO OYSTERS): CIDER FEST with Real Weird Band\nSeptember 28th: Six Down\nOctober 5th: Spare Change\nOctober 12th: Birdstick Band\nOctober 19th HARVEST FESTIVAL: Pete LaGrange & The Ghost Riders \nStarting October 26\, music will move indoors to accompany brunch. \nFREE ENTRY RSVP \nPlease note that RSVPs do not guarantee seating\, so we highly recommend bringing your own blankets and chairs for ultimate comfort. Kindly refrain from bringing outside food\, beverages\, or pets. \nOr check out our special group offerings: \nDETAILS HERE \nWe also have brunch & our regular full dining menu offered on Sundays – reservations suggested.
URL:https://newportvineyards.com/event/oysters-rose-2/2026-04-26/
CATEGORIES:Specials,Weekly Specials
ATTACH;FMTTYPE=image/webp:https://newportvineyards.com/wp-content/uploads/2025/05/newport-vineyards-best-winery-brewery-rhode-island-cheers-to-our-biggest-summer-season-yet-raw-bar-oysters-e1746637628573.webp
END:VEVENT
END:VCALENDAR